BEGIN:VCALENDAR
VERSION:2.0
PRODID:-//130.61.211.70//NONSGML kigkonsult.se iCalcreator 2.41.71//
CALSCALE:GREGORIAN
METHOD:PUBLISH
UID:64316138-3531-4262-a236-633064346633
X-WR-CALNAME:Grundzüge der CMS-Administration Calendar
X-WR-CALDESC:Events of the lecture Grundzüge der CMS-Administration
X-WR-TIMEZONE:Europe/Berlin
BEGIN:VEVENT
UID:33306339-3961-4439-b463-613262323961
DTSTAMP:20260422T200509Z
DESCRIPTION:Gelb
DTSTART:20220913T230000Z
DTEND:20220913T230000Z
LOCATION:Gelbhausen
SUMMARY:Gzcmsadmin: Gelber
END:VEVENT
END:VCALENDAR
