BEGIN:VCALENDAR
VERSION:2.0
PRODID:-//130.61.211.70//NONSGML kigkonsult.se iCalcreator 2.41.71//
CALSCALE:GREGORIAN
METHOD:PUBLISH
UID:38376161-3162-4266-b161-616565343334
X-WR-CALNAME:Grundzüge der CMS-Administration Calendar
X-WR-CALDESC:Events of the lecture Grundzüge der CMS-Administration
X-WR-TIMEZONE:Europe/Berlin
BEGIN:VEVENT
UID:31633638-3861-4330-b238-316362613931
DTSTAMP:20260422T214314Z
DESCRIPTION:Gelb
DTSTART:20220913T230000Z
DTEND:20220913T230000Z
LOCATION:Gelbhausen
SUMMARY:Gelber
END:VEVENT
END:VCALENDAR
