BEGIN:VCALENDAR
VERSION:2.0
PRODID:-//130.61.211.70//NONSGML kigkonsult.se iCalcreator 2.41.71//
CALSCALE:GREGORIAN
METHOD:PUBLISH
UID:38383732-3564-4935-b532-626564643965
X-WR-CALNAME:Grundzüge von Doppelkopf Calendar
X-WR-CALDESC:Termine der Vorlesung Grundzüge von Doppelkopf
X-WR-TIMEZONE:Europe/Berlin
BEGIN:VEVENT
UID:33393034-6230-4466-a239-633531373366
DTSTAMP:20260422T200457Z
DESCRIPTION:
DTSTART:20211105T160000Z
DTEND:20211105T160000Z
LOCATION:E1.3 016
SUMMARY:Dkpf21: Erstes Treffen
END:VEVENT
BEGIN:VEVENT
UID:30303634-3062-4030-b038-633666646465
DTSTAMP:20260422T200457Z
DESCRIPTION:
DTSTART:20211126T160000Z
DTEND:20211126T225900Z
LOCATION:E1.3 016
SUMMARY:Dkpf21: Zweites Treffen
END:VEVENT
END:VCALENDAR
