BEGIN:VCALENDAR
VERSION:2.0
PRODID:-//130.61.211.70//NONSGML kigkonsult.se iCalcreator 2.41.71//
CALSCALE:GREGORIAN
METHOD:PUBLISH
UID:63333433-3266-4139-b365-363861353230
X-WR-CALNAME:Grundzüge von Doppelkopf Calendar
X-WR-CALDESC:Termine der Vorlesung Grundzüge von Doppelkopf
X-WR-TIMEZONE:Europe/Berlin
BEGIN:VEVENT
UID:62623764-3836-4165-b264-333039343463
DTSTAMP:20260422T200319Z
DESCRIPTION:
DTSTART:20211105T160000Z
DTEND:20211105T160000Z
LOCATION:E1.3 016
SUMMARY:Erstes Treffen
END:VEVENT
BEGIN:VEVENT
UID:35336231-3462-4261-b264-383234393332
DTSTAMP:20260422T200319Z
DESCRIPTION:
DTSTART:20211126T160000Z
DTEND:20211126T225900Z
LOCATION:E1.3 016
SUMMARY:Zweites Treffen
END:VEVENT
END:VCALENDAR
